BEGIN:VCALENDAR
VERSION:2.0
PRODID:-//eventon.com NONSGML v1.0//EN
CALSCALE:GREGORIAN
METHOD:PUBLISH
BEGIN:VEVENT
UID:69e76c1a69a65
DTSTAMP:20260421T122250Z
DTSTART:20260506T110000Z
DTEND:20260507T025900Z
LOCATION:
SUMMARY:Uvatec Agro Business
DESCRIPTION:Vem aí um dos maiores encontros do agro! 🌱🚜 O UVATEC Agr
 o Business 2026 chega para conectar inovação\,  tecnologia e grandes opor
 tunidades no campo. Um evento pensado para produtores\,  empresas e profiss
 ionais que fazem o agro acontecer todos os dias. &nbsp; 📅 06 de maio Pre
 pare-se para um dia de[..]\nhttps://www.portalzap.com/events/i-corrida-movi
 mente-se-pela-vida/
URL:https://www.portalzap.com/events/i-corrida-movimente-se-pela-vida/
END:VEVENT
END:VCALENDAR