BEGIN:VCALENDAR
VERSION:2.0
PRODID:-//eventon.com NONSGML v1.0//EN
CALSCALE:GREGORIAN
METHOD:PUBLISH
BEGIN:VEVENT
UID:69e825828e7d8
DTSTAMP:20260422T013354Z
DTSTART:20260507T110000Z
DTEND:20260507T190000Z
LOCATION:
SUMMARY:Manga Tec Agro Business
DESCRIPTION:🌱✨ VEM AÍ um grande encontro do agro! O Manga Tec Agro Bu
 siness chega para conectar inovação\,  tecnologia e o futuro da fruticult
 ura. 🍋🚜 &nbsp; 📅 07 de maio Um dia para trocar experiências\,  fo
 rtalecer parcerias e impulsionar o desenvolvimento do setor. &nbsp; 🤝 Re
 alização: Central de Adubos &amp; Central[..]\nhttps://www.portalzap.com/
 events/ii-copa-society-fut7-promete-agitar-o-futebol-regional-em-de-novembr
 o/
URL:https://www.portalzap.com/events/ii-copa-society-fut7-promete-agitar-o-futebol-regional-em-de-novembro/
END:VEVENT
END:VCALENDAR